BEGIN:VCALENDAR
VERSION:2.0
PRODID:-//Śląski Klub Strzelecki &quot;ALFA&quot; - ECPv6.15.20//NONSGML v1.0//EN
CALSCALE:GREGORIAN
METHOD:PUBLISH
X-WR-CALNAME:Śląski Klub Strzelecki &quot;ALFA&quot;
X-ORIGINAL-URL:https://sksalfa.eu
X-WR-CALDESC:Wydarzenia dla Śląski Klub Strzelecki &quot;ALFA&quot;
REFRESH-INTERVAL;VALUE=DURATION:PT1H
X-Robots-Tag:noindex
X-PUBLISHED-TTL:PT1H
BEGIN:VTIMEZONE
TZID:Europe/Warsaw
BEGIN:DAYLIGHT
TZOFFSETFROM:+0100
TZOFFSETTO:+0200
TZNAME:CEST
DTSTART:20220327T010000
END:DAYLIGHT
BEGIN:STANDARD
TZOFFSETFROM:+0200
TZOFFSETTO:+0100
TZNAME:CET
DTSTART:20221030T010000
END:STANDARD
BEGIN:DAYLIGHT
TZOFFSETFROM:+0100
TZOFFSETTO:+0200
TZNAME:CEST
DTSTART:20230326T010000
END:DAYLIGHT
BEGIN:STANDARD
TZOFFSETFROM:+0200
TZOFFSETTO:+0100
TZNAME:CET
DTSTART:20231029T010000
END:STANDARD
BEGIN:DAYLIGHT
TZOFFSETFROM:+0100
TZOFFSETTO:+0200
TZNAME:CEST
DTSTART:20240331T010000
END:DAYLIGHT
BEGIN:STANDARD
TZOFFSETFROM:+0200
TZOFFSETTO:+0100
TZNAME:CET
DTSTART:20241027T010000
END:STANDARD
END:VTIMEZONE
BEGIN:VEVENT
DTSTART;VALUE=DATE:20230212
DTEND;VALUE=DATE:20230213
DTSTAMP:20260420T115146
CREATED:20230221T083406Z
LAST-MODIFIED:20231024T084939Z
UID:785-1676160000-1676246399@sksalfa.eu
SUMMARY:Zawody dynamiczne 12.02.2023
DESCRIPTION:Wyniki zawodów: \nLink do komunikatu
URL:https://sksalfa.eu/event/zawody-dynamiczne-12-02-2023-2/
LOCATION:Katowice\, Żelazna 15\, Katowice\, Śląskie\, 40-851\, Poland
ATTACH;FMTTYPE=image/png:https://sksalfa.eu/wp-content/uploads/2023/02/ZAWODY-ZAKONCZONE-e1698522897334.png
END:VEVENT
BEGIN:VEVENT
DTSTART;VALUE=DATE:20230121
DTEND;VALUE=DATE:20230122
DTSTAMP:20260420T115146
CREATED:20230217T113547Z
LAST-MODIFIED:20231024T084916Z
UID:784-1674259200-1674345599@sksalfa.eu
SUMMARY:Zawody dynamiczne 21.01.2023
DESCRIPTION:Wyniki zawodów: \nLink do komunikatu \n 
URL:https://sksalfa.eu/event/zawody-dynamiczne-21-01-2023-2/
LOCATION:Katowice\, Żelazna 15\, Katowice\, Śląskie\, 40-851\, Poland
ATTACH;FMTTYPE=image/png:https://sksalfa.eu/wp-content/uploads/2023/02/ZAWODY-ZAKONCZONE-e1698522897334.png
END:VEVENT
END:VCALENDAR