BEGIN:VCALENDAR
VERSION:2.0
PRODID:-//Śląski Klub Strzelecki &quot;ALFA&quot; - ECPv6.15.20//NONSGML v1.0//EN
CALSCALE:GREGORIAN
METHOD:PUBLISH
X-ORIGINAL-URL:https://sksalfa.eu
X-WR-CALDESC:Wydarzenia dla Śląski Klub Strzelecki &quot;ALFA&quot;
REFRESH-INTERVAL;VALUE=DURATION:PT1H
X-Robots-Tag:noindex
X-PUBLISHED-TTL:PT1H
BEGIN:VTIMEZONE
TZID:Europe/Warsaw
BEGIN:DAYLIGHT
TZOFFSETFROM:+0100
TZOFFSETTO:+0200
TZNAME:CEST
DTSTART:20220327T010000
END:DAYLIGHT
BEGIN:STANDARD
TZOFFSETFROM:+0200
TZOFFSETTO:+0100
TZNAME:CET
DTSTART:20221030T010000
END:STANDARD
BEGIN:DAYLIGHT
TZOFFSETFROM:+0100
TZOFFSETTO:+0200
TZNAME:CEST
DTSTART:20230326T010000
END:DAYLIGHT
BEGIN:STANDARD
TZOFFSETFROM:+0200
TZOFFSETTO:+0100
TZNAME:CET
DTSTART:20231029T010000
END:STANDARD
BEGIN:DAYLIGHT
TZOFFSETFROM:+0100
TZOFFSETTO:+0200
TZNAME:CEST
DTSTART:20240331T010000
END:DAYLIGHT
BEGIN:STANDARD
TZOFFSETFROM:+0200
TZOFFSETTO:+0100
TZNAME:CET
DTSTART:20241027T010000
END:STANDARD
BEGIN:DAYLIGHT
TZOFFSETFROM:+0100
TZOFFSETTO:+0200
TZNAME:CEST
DTSTART:20250330T010000
END:DAYLIGHT
BEGIN:STANDARD
TZOFFSETFROM:+0200
TZOFFSETTO:+0100
TZNAME:CET
DTSTART:20251026T010000
END:STANDARD
END:VTIMEZONE
BEGIN:VEVENT
DTSTART;VALUE=DATE:20240825
DTEND;VALUE=DATE:20240826
DTSTAMP:20260420T012032
CREATED:20240206T102615Z
LAST-MODIFIED:20240918T092430Z
UID:1069-1724544000-1724630399@sksalfa.eu
SUMMARY:Lato w Brzeszczach 2024
DESCRIPTION:
URL:https://sksalfa.eu/event/lato-w-brzeszczach-2024/
LOCATION:Brzeszcze\, Łęcka 69\, Brzeszcze\, Śląskie\, 32-626\, Poland
ORGANIZER;CN="%C5%9Al%C4%85ski Klub Strzelecki ALFA":MAILTO:sekretariat@strzelnica.eu
END:VEVENT
BEGIN:VEVENT
DTSTART;VALUE=DATE:20240810
DTEND;VALUE=DATE:20240811
DTSTAMP:20260420T012032
CREATED:20240206T102503Z
LAST-MODIFIED:20240918T092407Z
UID:1067-1723248000-1723334399@sksalfa.eu
SUMMARY:Zawody dynamiczne 10.08.2024
DESCRIPTION:
URL:https://sksalfa.eu/event/zawody-dynamiczne-10-08-2024/
LOCATION:Pyskowice\, Młyńska 1\, Pyskowice\, 44-120\, Poland
END:VEVENT
BEGIN:VEVENT
DTSTART;VALUE=DATE:20240706
DTEND;VALUE=DATE:20240707
DTSTAMP:20260420T012032
CREATED:20240206T102409Z
LAST-MODIFIED:20240716T083211Z
UID:1065-1720224000-1720310399@sksalfa.eu
SUMMARY:Zawody dynamiczne 06.07.2024
DESCRIPTION:
URL:https://sksalfa.eu/event/zawody-dynamiczne-06-07-2024/
LOCATION:Pyskowice\, Młyńska 1\, Pyskowice\, 44-120\, Poland
ATTACH;FMTTYPE=image/png:https://sksalfa.eu/wp-content/uploads/2023/02/ZAWODY-ZAKONCZONE-e1698522897334.png
END:VEVENT
BEGIN:VEVENT
DTSTART;VALUE=DATE:20240630
DTEND;VALUE=DATE:20240701
DTSTAMP:20260420T012032
CREATED:20240206T102323Z
LAST-MODIFIED:20240716T083141Z
UID:1063-1719705600-1719791999@sksalfa.eu
SUMMARY:Puchar Lata 2024
DESCRIPTION:Wszystkie informacje na temat zawodów dostępne pod adresem: \nZawody Puchar Lata 2024
URL:https://sksalfa.eu/event/puchar-lata-2024/
LOCATION:Brzeszcze\, Łęcka 69\, Brzeszcze\, Śląskie\, 32-626\, Poland
ATTACH;FMTTYPE=image/png:https://sksalfa.eu/wp-content/uploads/2023/02/ZAWODY-ZAKONCZONE-e1698522897334.png
ORGANIZER;CN="%C5%9Al%C4%85ski Klub Strzelecki ALFA":MAILTO:sekretariat@strzelnica.eu
END:VEVENT
BEGIN:VEVENT
DTSTART;VALUE=DATE:20240601
DTEND;VALUE=DATE:20240602
DTSTAMP:20260420T012032
CREATED:20240206T102229Z
LAST-MODIFIED:20240603T083115Z
UID:1061-1717200000-1717286399@sksalfa.eu
SUMMARY:Zawody pneumatyczne - Dzień Dziecka
DESCRIPTION:Wszystkie informacje na temat zawodów dostępne pod adresem: \nZawody pneumatyczne – Dzień Dziecka 2024 \nWyniki zawodów: \nLink do wyników zawodów
URL:https://sksalfa.eu/event/zawody-pneumatyczne-klasyfikacja-wiekowa-01-06-2024/
LOCATION:Strzelnica pneumatyczna\, Limanowskiego 8\, Dąbrowa Górnicza\, Śląskie\, 41-300\, Poland
ATTACH;FMTTYPE=image/png:https://sksalfa.eu/wp-content/uploads/2023/02/ZAWODY-ZAKONCZONE-e1698522897334.png
ORGANIZER;CN="%C5%9Al%C4%85ski Klub Strzelecki ALFA":MAILTO:sekretariat@strzelnica.eu
END:VEVENT
BEGIN:VEVENT
DTSTART;VALUE=DATE:20240526
DTEND;VALUE=DATE:20240527
DTSTAMP:20260420T012032
CREATED:20240206T090116Z
LAST-MODIFIED:20240527T111411Z
UID:1059-1716681600-1716767999@sksalfa.eu
SUMMARY:Majówka w Brzeszczach 2024
DESCRIPTION:Wszystkie informacje na temat zawodów dostępne pod adresem: \nZawody Majówka w Brzeszczach 2024 \nWyniki zawodów: \nLink do wyników zawodów
URL:https://sksalfa.eu/event/majowka-w-brzeszczach-2024/
LOCATION:Brzeszcze\, Łęcka 69\, Brzeszcze\, Śląskie\, 32-626\, Poland
ATTACH;FMTTYPE=image/png:https://sksalfa.eu/wp-content/uploads/2023/02/ZAWODY-ZAKONCZONE-e1698522897334.png
ORGANIZER;CN="%C5%9Al%C4%85ski Klub Strzelecki ALFA":MAILTO:sekretariat@strzelnica.eu
END:VEVENT
BEGIN:VEVENT
DTSTART;VALUE=DATE:20240519
DTEND;VALUE=DATE:20240520
DTSTAMP:20260420T012032
CREATED:20240206T085945Z
LAST-MODIFIED:20240520T085333Z
UID:1057-1716076800-1716163199@sksalfa.eu
SUMMARY:Zawody dynamiczne 19.05.2024
DESCRIPTION:Wszystkie informacje na temat zawodów dostępne pod adresem: \nZawody dynamiczne 19.05.2024
URL:https://sksalfa.eu/event/zawody-dynamiczne-19-05-2024/
LOCATION:Katowice\, Żelazna 15\, Katowice\, Śląskie\, 40-851\, Poland
ATTACH;FMTTYPE=image/png:https://sksalfa.eu/wp-content/uploads/2023/02/ZAWODY-ZAKONCZONE-e1698522897334.png
END:VEVENT
BEGIN:VEVENT
DTSTART;VALUE=DATE:20240421
DTEND;VALUE=DATE:20240422
DTSTAMP:20260420T012032
CREATED:20240206T085900Z
LAST-MODIFIED:20240520T105947Z
UID:1055-1713657600-1713743999@sksalfa.eu
SUMMARY:Puchar Wiosny 2024
DESCRIPTION:Wszystkie informacje na temat zawodów dostępne pod adresem: \nZawody Puchar Wiosny 2024 \nWyniki zawodów: \nLink do komunikatu
URL:https://sksalfa.eu/event/puchar-wiosny-2024/
LOCATION:Brzeszcze\, Łęcka 69\, Brzeszcze\, Śląskie\, 32-626\, Poland
ATTACH;FMTTYPE=image/png:https://sksalfa.eu/wp-content/uploads/2023/02/ZAWODY-ZAKONCZONE-e1698522897334.png
ORGANIZER;CN="%C5%9Al%C4%85ski Klub Strzelecki ALFA":MAILTO:sekretariat@strzelnica.eu
END:VEVENT
BEGIN:VEVENT
DTSTART;VALUE=DATE:20240324
DTEND;VALUE=DATE:20240325
DTSTAMP:20260420T012032
CREATED:20240206T085816Z
LAST-MODIFIED:20240423T075310Z
UID:1052-1711238400-1711324799@sksalfa.eu
SUMMARY:Pożegnanie Zimy 2024
DESCRIPTION:Wszystkie informacje na temat zawodów dostępne pod adresem: \nZawody Pożegnanie Zimy 2024 \nWyniki zawodów: \nLink do komunikatu
URL:https://sksalfa.eu/event/pozegnanie-zimy-2024/
LOCATION:Brzeszcze\, Łęcka 69\, Brzeszcze\, Śląskie\, 32-626\, Poland
ATTACH;FMTTYPE=image/png:https://sksalfa.eu/wp-content/uploads/2023/02/ZAWODY-ZAKONCZONE-e1698522897334.png
ORGANIZER;CN="%C5%9Al%C4%85ski Klub Strzelecki ALFA":MAILTO:sekretariat@strzelnica.eu
END:VEVENT
BEGIN:VEVENT
DTSTART;VALUE=DATE:20240310
DTEND;VALUE=DATE:20240311
DTSTAMP:20260420T012032
CREATED:20240206T085648Z
LAST-MODIFIED:20240314T143214Z
UID:1050-1710028800-1710115199@sksalfa.eu
SUMMARY:Zawody dynamiczne 10.03.2024
DESCRIPTION:Wszystkie informacje na temat zawodów dostępne pod adresem: \nZawody dynamiczne 10.03.2024 \nWyniki zawodów: \nLink do komunikatu
URL:https://sksalfa.eu/event/zawody-dynamiczne-10-03-2024/
LOCATION:Katowice\, Żelazna 15\, Katowice\, Śląskie\, 40-851\, Poland
ATTACH;FMTTYPE=image/png:https://sksalfa.eu/wp-content/uploads/2023/02/ZAWODY-ZAKONCZONE-e1698522897334.png
END:VEVENT
BEGIN:VEVENT
DTSTART;VALUE=DATE:20240218
DTEND;VALUE=DATE:20240219
DTSTAMP:20260420T012032
CREATED:20240206T085544Z
LAST-MODIFIED:20240314T143257Z
UID:1048-1708214400-1708300799@sksalfa.eu
SUMMARY:Zawody Walentynkowe 2024
DESCRIPTION:Wszystkie informacje na temat zawodów dostępne pod adresem \nZawody Walentynkowe 2024 \nWyniki zawodów: \nLink do komunikatu
URL:https://sksalfa.eu/event/zawody-walentynkowe/
LOCATION:Brzeszcze\, Łęcka 69\, Brzeszcze\, Śląskie\, 32-626\, Poland
ATTACH;FMTTYPE=image/png:https://sksalfa.eu/wp-content/uploads/2023/02/ZAWODY-ZAKONCZONE-e1698522897334.png
ORGANIZER;CN="%C5%9Al%C4%85ski Klub Strzelecki ALFA":MAILTO:sekretariat@strzelnica.eu
END:VEVENT
BEGIN:VEVENT
DTSTART;VALUE=DATE:20240211
DTEND;VALUE=DATE:20240212
DTSTAMP:20260420T012032
CREATED:20240206T085426Z
LAST-MODIFIED:20240304T094945Z
UID:1046-1707609600-1707695999@sksalfa.eu
SUMMARY:Zawody dynamiczne 11.02.2024
DESCRIPTION:Wszystkie informacje na temat zawodów dostępne pod adresem: \nZawody dynamiczne 11.02.2024 \nWyniki zawodów: \nLink do komunikatu
URL:https://sksalfa.eu/event/zawody-dynamiczne-11-02-2024/
LOCATION:Katowice\, Żelazna 15\, Katowice\, Śląskie\, 40-851\, Poland
ATTACH;FMTTYPE=image/png:https://sksalfa.eu/wp-content/uploads/2023/02/ZAWODY-ZAKONCZONE-e1698522897334.png
END:VEVENT
BEGIN:VEVENT
DTSTART;VALUE=DATE:20240128
DTEND;VALUE=DATE:20240129
DTSTAMP:20260420T012032
CREATED:20240110T104648Z
LAST-MODIFIED:20240214T092701Z
UID:1000-1706400000-1706486399@sksalfa.eu
SUMMARY:Zawody WOŚP 2024
DESCRIPTION:Wszystkie informacje na temat zawodów dostępne pod adresem: \nZawody WOŚP 2024 \nWyniki zawodów: \nLink do komunikatu \n 
URL:https://sksalfa.eu/event/zawody-wosp/
LOCATION:Strzelnica pneumatyczna\, Limanowskiego 8\, Dąbrowa Górnicza\, Śląskie\, 41-300\, Poland
ATTACH;FMTTYPE=image/png:https://sksalfa.eu/wp-content/uploads/2023/02/ZAWODY-ZAKONCZONE-e1698522897334.png
ORGANIZER;CN="%C5%9Al%C4%85ski Klub Strzelecki ALFA":MAILTO:sekretariat@strzelnica.eu
END:VEVENT
BEGIN:VEVENT
DTSTART;VALUE=DATE:20240120
DTEND;VALUE=DATE:20240121
DTSTAMP:20260420T012032
CREATED:20240110T104120Z
LAST-MODIFIED:20240216T105633Z
UID:997-1705708800-1705795199@sksalfa.eu
SUMMARY:Zawody dynamiczne 20.01.2024
DESCRIPTION:Wszystkie informacje na temat zawodów dostępne pod adresem: \nZawody dynamiczne 20.01.2024 \nWyniki zawodów: \nLink do komunikatu
URL:https://sksalfa.eu/event/zawody-dynamiczne/
LOCATION:Pyskowice\, Młyńska 1\, Pyskowice\, 44-120\, Poland
ATTACH;FMTTYPE=image/png:https://sksalfa.eu/wp-content/uploads/2023/02/ZAWODY-ZAKONCZONE-e1698522897334.png
END:VEVENT
BEGIN:VEVENT
DTSTART;VALUE=DATE:20231210
DTEND;VALUE=DATE:20231211
DTSTAMP:20260420T012032
CREATED:20230222T085225Z
LAST-MODIFIED:20240115T115429Z
UID:801-1702166400-1702252799@sksalfa.eu
SUMMARY:Puchar Zimy 2023
DESCRIPTION:Wszystkie informacje na temat zawodów dostępne pod adresem: \nPuchar Zimy 2023 \nWyniki zawodów: \nLink do komunikatu
URL:https://sksalfa.eu/event/puchar-zimy-2023-2/
LOCATION:Brzeszcze\, Łęcka 69\, Brzeszcze\, Śląskie\, 32-626\, Poland
ATTACH;FMTTYPE=image/png:https://sksalfa.eu/wp-content/uploads/2023/02/ZAWODY-ZAKONCZONE-e1698522897334.png
ORGANIZER;CN="%C5%9Al%C4%85ski Klub Strzelecki ALFA":MAILTO:sekretariat@strzelnica.eu
END:VEVENT
BEGIN:VEVENT
DTSTART;VALUE=DATE:20231126
DTEND;VALUE=DATE:20231127
DTSTAMP:20260420T012032
CREATED:20230222T085141Z
LAST-MODIFIED:20231228T093245Z
UID:353-1700956800-1701043199@sksalfa.eu
SUMMARY:Zawody Andrzejkowe 2023
DESCRIPTION:Wszystkie informacje na temat zawodów dostępne pod adresem: \nZawody Andrzejkowe 2023 \nWyniki zawodów: \nLink do komunikatu
URL:https://sksalfa.eu/event/zawody-andrzejkowe-2023/
LOCATION:Brzeszcze\, Łęcka 69\, Brzeszcze\, Śląskie\, 32-626\, Poland
ATTACH;FMTTYPE=image/png:https://sksalfa.eu/wp-content/uploads/2023/02/ZAWODY-ZAKONCZONE-e1698522897334.png
ORGANIZER;CN="%C5%9Al%C4%85ski Klub Strzelecki ALFA":MAILTO:sekretariat@strzelnica.eu
END:VEVENT
BEGIN:VEVENT
DTSTART;VALUE=DATE:20231119
DTEND;VALUE=DATE:20231120
DTSTAMP:20260420T012032
CREATED:20230222T085034Z
LAST-MODIFIED:20231120T114629Z
UID:799-1700352000-1700438399@sksalfa.eu
SUMMARY:Zawody dynamiczne 19.11.2023
DESCRIPTION:Wszystkie informacje na temat zawodów dostępne pod adresem: \nZawody dynamiczne 19.11.2023
URL:https://sksalfa.eu/event/zawody-dynamiczne-19-11-2023-2/
LOCATION:Katowice\, Żelazna 15\, Katowice\, Śląskie\, 40-851\, Poland
ATTACH;FMTTYPE=image/png:https://sksalfa.eu/wp-content/uploads/2023/02/ZAWODY-ZAKONCZONE-e1698522897334.png
END:VEVENT
BEGIN:VEVENT
DTSTART;VALUE=DATE:20231028
DTEND;VALUE=DATE:20231029
DTSTAMP:20260420T012032
CREATED:20230222T085000Z
LAST-MODIFIED:20231123T134600Z
UID:798-1698451200-1698537599@sksalfa.eu
SUMMARY:Zawody Halloween 2023
DESCRIPTION:Wszystkie informacje na temat zawodów dostępne pod adresem: \nZawody Halloween 2023 \nWyniki zawodów: \nLink do komunikatu
URL:https://sksalfa.eu/event/zawody-halloween-2023-2/
LOCATION:Strzelnica pneumatyczna\, Limanowskiego 8\, Dąbrowa Górnicza\, Śląskie\, 41-300\, Poland
ATTACH;FMTTYPE=image/png:https://sksalfa.eu/wp-content/uploads/2023/02/ZAWODY-ZAKONCZONE-e1698522897334.png
ORGANIZER;CN="%C5%9Al%C4%85ski Klub Strzelecki ALFA":MAILTO:sekretariat@strzelnica.eu
END:VEVENT
BEGIN:VEVENT
DTSTART;VALUE=DATE:20231008
DTEND;VALUE=DATE:20231009
DTSTAMP:20260420T012032
CREATED:20230222T084912Z
LAST-MODIFIED:20231024T085156Z
UID:347-1696723200-1696809599@sksalfa.eu
SUMMARY:Zawody dynamiczne 08.10.2023
DESCRIPTION:Wszystkie informacje na temat zawodów dostępne pod adresem: \nZawody dynamiczne 08.10.2023 \nWyniki zawodów: \nLink do komunikatu
URL:https://sksalfa.eu/event/zawody-dynamiczne-08-10-2023/
LOCATION:Katowice\, Żelazna 15\, Katowice\, Śląskie\, 40-851\, Poland
ATTACH;FMTTYPE=image/png:https://sksalfa.eu/wp-content/uploads/2023/02/ZAWODY-ZAKONCZONE-e1698522897334.png
END:VEVENT
BEGIN:VEVENT
DTSTART;VALUE=DATE:20230924
DTEND;VALUE=DATE:20230925
DTSTAMP:20260420T012032
CREATED:20230222T084834Z
LAST-MODIFIED:20231024T084123Z
UID:345-1695513600-1695599999@sksalfa.eu
SUMMARY:Puchar Jesieni 2023
DESCRIPTION:Wszystkie informacje na temat zawodów dostępne pod adresem: \nPuchar Jesieni 2023 \nWyniki zawodów: \nLink do komunikatu
URL:https://sksalfa.eu/event/puchar-jesieni-2023/
LOCATION:Brzeszcze\, Łęcka 69\, Brzeszcze\, Śląskie\, 32-626\, Poland
ATTACH;FMTTYPE=image/png:https://sksalfa.eu/wp-content/uploads/2023/02/ZAWODY-ZAKONCZONE-e1698522897334.png
ORGANIZER;CN="%C5%9Al%C4%85ski Klub Strzelecki ALFA":MAILTO:sekretariat@strzelnica.eu
END:VEVENT
BEGIN:VEVENT
DTSTART;VALUE=DATE:20230827
DTEND;VALUE=DATE:20230828
DTSTAMP:20260420T012032
CREATED:20230222T084803Z
LAST-MODIFIED:20231024T084701Z
UID:343-1693094400-1693180799@sksalfa.eu
SUMMARY:Puchar Lata 2023
DESCRIPTION:Wszystkie informacje na temat zawodów dostępne pod adresem: \nPuchar Lata 2023 \nWyniki zawodów: \nLink do komunikatu
URL:https://sksalfa.eu/event/lato-w-brzeszczach-2023/
LOCATION:Brzeszcze\, Łęcka 69\, Brzeszcze\, Śląskie\, 32-626\, Poland
ATTACH;FMTTYPE=image/png:https://sksalfa.eu/wp-content/uploads/2023/02/ZAWODY-ZAKONCZONE-e1698522897334.png
ORGANIZER;CN="%C5%9Al%C4%85ski Klub Strzelecki ALFA":MAILTO:sekretariat@strzelnica.eu
END:VEVENT
BEGIN:VEVENT
DTSTART;VALUE=DATE:20230819
DTEND;VALUE=DATE:20230820
DTSTAMP:20260420T012032
CREATED:20230222T084705Z
LAST-MODIFIED:20231024T085128Z
UID:341-1692403200-1692489599@sksalfa.eu
SUMMARY:Zawody dynamiczne 19.08.2023
DESCRIPTION:Wszystkie informacje na temat zawodów dostępne pod adresem: \nZawody dynamiczne 19.08.2023 \nWyniki zawodów: \nLink do komunikatu
URL:https://sksalfa.eu/event/zawody-dynamiczne-12-13-08-2023/
LOCATION:Pyskowice\, Młyńska 1\, Pyskowice\, 44-120\, Poland
ATTACH;FMTTYPE=image/png:https://sksalfa.eu/wp-content/uploads/2023/02/ZAWODY-ZAKONCZONE-e1698522897334.png
END:VEVENT
BEGIN:VEVENT
DTSTART;VALUE=DATE:20230716
DTEND;VALUE=DATE:20230717
DTSTAMP:20260420T012032
CREATED:20230222T084622Z
LAST-MODIFIED:20231024T084624Z
UID:339-1689465600-1689551999@sksalfa.eu
SUMMARY:Lato w Brzeszczach 2023
DESCRIPTION:Wszystkie informacje na temat zawodów dostępne pod adresem: \nLato w Brzeszczach 2023 \nWyniki zawodów: \nLink do komunikatu
URL:https://sksalfa.eu/event/lato-w-brzeszczach-2023-2/
LOCATION:Brzeszcze\, Łęcka 69\, Brzeszcze\, Śląskie\, 32-626\, Poland
ATTACH;FMTTYPE=image/png:https://sksalfa.eu/wp-content/uploads/2023/02/ZAWODY-ZAKONCZONE-e1698522897334.png
ORGANIZER;CN="%C5%9Al%C4%85ski Klub Strzelecki ALFA":MAILTO:sekretariat@strzelnica.eu
END:VEVENT
BEGIN:VEVENT
DTSTART;VALUE=DATE:20230715
DTEND;VALUE=DATE:20230716
DTSTAMP:20260420T012032
CREATED:20230222T084538Z
LAST-MODIFIED:20231024T085108Z
UID:337-1689379200-1689465599@sksalfa.eu
SUMMARY:Zawody dynamiczne 15.07.2023
DESCRIPTION:Wyniki zawodów: \nLink do komunikatu
URL:https://sksalfa.eu/event/zawody-dynamiczne-15-07-2023/
LOCATION:Pyskowice\, Młyńska 1\, Pyskowice\, 44-120\, Poland
ATTACH;FMTTYPE=image/png:https://sksalfa.eu/wp-content/uploads/2023/02/ZAWODY-ZAKONCZONE-e1698522897334.png
END:VEVENT
BEGIN:VEVENT
DTSTART;VALUE=DATE:20230625
DTEND;VALUE=DATE:20230626
DTSTAMP:20260420T012032
CREATED:20230222T084332Z
LAST-MODIFIED:20231024T084546Z
UID:791-1687651200-1687737599@sksalfa.eu
SUMMARY:Wakacje w Brzeszczach 2023
DESCRIPTION:Wszystkie informacje na temat zawodów dostępne pod adresem: \nZawody powitanie wakacji w Brzeszczach \nWyniki zawodów: \nLink do komunikatu
URL:https://sksalfa.eu/event/wakacje-w-brzeszczach-2023-2/
LOCATION:Brzeszcze\, Łęcka 69\, Brzeszcze\, Śląskie\, 32-626\, Poland
ATTACH;FMTTYPE=image/png:https://sksalfa.eu/wp-content/uploads/2023/02/ZAWODY-ZAKONCZONE-e1698522897334.png
ORGANIZER;CN="%C5%9Al%C4%85ski Klub Strzelecki ALFA":MAILTO:sekretariat@strzelnica.eu
END:VEVENT
BEGIN:VEVENT
DTSTART;VALUE=DATE:20230610
DTEND;VALUE=DATE:20230611
DTSTAMP:20260420T012032
CREATED:20230222T084124Z
LAST-MODIFIED:20231024T085047Z
UID:332-1686355200-1686441599@sksalfa.eu
SUMMARY:Zawody dynamiczne 10.06.2023
DESCRIPTION:Wyniki zawodów: \nLink do komunikatu
URL:https://sksalfa.eu/event/zawody-dynamiczne-11-06-2023/
LOCATION:Pyskowice\, Młyńska 1\, Pyskowice\, 44-120\, Poland
ATTACH;FMTTYPE=image/png:https://sksalfa.eu/wp-content/uploads/2023/02/ZAWODY-ZAKONCZONE-e1698522897334.png
END:VEVENT
BEGIN:VEVENT
DTSTART;VALUE=DATE:20230527
DTEND;VALUE=DATE:20230528
DTSTAMP:20260420T012032
CREATED:20230222T084039Z
LAST-MODIFIED:20231024T084447Z
UID:789-1685145600-1685231999@sksalfa.eu
SUMMARY:Majówka w Brzeszczach 2023
DESCRIPTION:Wszystkie informacje na temat zawodów dostępne pod adresem: \nZawody majówka w Brzeszczach \nWyniki zawodów: \nLink do komunikatu
URL:https://sksalfa.eu/event/majowka-w-brzeszczach-2023-2/
LOCATION:Brzeszcze\, Łęcka 69\, Brzeszcze\, Śląskie\, 32-626\, Poland
ATTACH;FMTTYPE=image/png:https://sksalfa.eu/wp-content/uploads/2023/02/ZAWODY-ZAKONCZONE-e1698522897334.png
ORGANIZER;CN="%C5%9Al%C4%85ski Klub Strzelecki ALFA":MAILTO:sekretariat@strzelnica.eu
END:VEVENT
BEGIN:VEVENT
DTSTART;VALUE=DATE:20230416
DTEND;VALUE=DATE:20230417
DTSTAMP:20260420T012032
CREATED:20230222T083957Z
LAST-MODIFIED:20231024T084403Z
UID:788-1681603200-1681689599@sksalfa.eu
SUMMARY:Puchar Wiosny 2023
DESCRIPTION:Wszystkie informacje na temat zawodów dostępne pod adresem: \nZawody Puchar Wiosny 2023 \nWyniki zawodów: \nLink do komunikatu
URL:https://sksalfa.eu/event/puchar-wiosny-2023-2/
LOCATION:Brzeszcze\, Łęcka 69\, Brzeszcze\, Śląskie\, 32-626\, Poland
ATTACH;FMTTYPE=image/png:https://sksalfa.eu/wp-content/uploads/2023/02/ZAWODY-ZAKONCZONE-e1698522897334.png
ORGANIZER;CN="%C5%9Al%C4%85ski Klub Strzelecki ALFA":MAILTO:sekretariat@strzelnica.eu
END:VEVENT
BEGIN:VEVENT
DTSTART;VALUE=DATE:20230312
DTEND;VALUE=DATE:20230313
DTSTAMP:20260420T012032
CREATED:20230222T083917Z
LAST-MODIFIED:20231024T084309Z
UID:787-1678579200-1678665599@sksalfa.eu
SUMMARY:Otwarcie sezonu 2023
DESCRIPTION:Wszystkie informacje na temat zawodów dostępne pod adresem: \nZawody otwarcie sezonu 2023 \nWyniki zawodów: \nLink do komunikatu
URL:https://sksalfa.eu/event/otwarcie-sezonu-2023-2/
LOCATION:Brzeszcze\, Łęcka 69\, Brzeszcze\, Śląskie\, 32-626\, Poland
ATTACH;FMTTYPE=image/png:https://sksalfa.eu/wp-content/uploads/2023/02/ZAWODY-ZAKONCZONE-e1698522897334.png
ORGANIZER;CN="%C5%9Al%C4%85ski Klub Strzelecki ALFA":MAILTO:sekretariat@strzelnica.eu
END:VEVENT
BEGIN:VEVENT
DTSTART;VALUE=DATE:20230305
DTEND;VALUE=DATE:20230306
DTSTAMP:20260420T012032
CREATED:20230222T083510Z
LAST-MODIFIED:20231024T085004Z
UID:786-1677974400-1678060799@sksalfa.eu
SUMMARY:Zawody dynamiczne 05.03.2023
DESCRIPTION:Wszystkie informacje na temat zawodów dostępne pod adresem: \nZawody dynamiczne 05.03.2023 \nWyniki zawodów: \nLink do komunikatu
URL:https://sksalfa.eu/event/zawody-dynamiczne-05-03-2023-2/
LOCATION:Katowice\, Żelazna 15\, Katowice\, Śląskie\, 40-851\, Poland
ATTACH;FMTTYPE=image/png:https://sksalfa.eu/wp-content/uploads/2023/02/ZAWODY-ZAKONCZONE-e1698522897334.png
END:VEVENT
END:VCALENDAR